BEGIN:VCALENDAR
VERSION:2.0
PRODID:-//hacksw/handcal//NONSGML v1.0//EN
BEGIN:VEVENT
SUMMARY:LE BELE Qualif. Depart.  M4
UID:09503e11-45be-4538-b90f-c2731655a209
DTSTART:20260502T220000Z
DTEND:20260503T220000Z
LOCATION:Localisation 14 boulevard de la Beaujoire 44300 NANTES
CATEGORIES:Sportif
STATUS:
URL;VALUE=URI:https://www.lbirbretpaysdelaloire.com/evenements/2026/05/03/le-bele-qualif-depart-m4-2356130
END:VEVENT
END:VCALENDAR
