BEGIN:VCALENDAR
VERSION:2.0
PRODID:-//hacksw/handcal//NONSGML v1.0//EN
BEGIN:VEVENT
SUMMARY:LE BELE Qualification Deptal M3
UID:bfc5da70-2945-4f2a-8839-506bb9ccb9cd
DTSTART:20260503T063000Z
DTEND:20260503T160000Z
LOCATION:Localisation 14 Boulevard de la Beaujoire 44300 nantes
CATEGORIES:Sportif
STATUS:
URL;VALUE=URI:https://www.lbirbretpaysdelaloire.com/evenements/2026/05/03/le-bele-qualification-deptal-m3-2443652
END:VEVENT
END:VCALENDAR
